BEGIN:VCALENDAR
VERSION:2.0
PRODID:KKTIX
CALSCALE:GREGORIAN
METHOD:PUBLISH
BEGIN:VTIMEZONE
TZID:Asia/Taipei
END:VTIMEZONE
BEGIN:VEVENT
DTSTAMP:20260421T112221Z
UID:2584a78a-af24-45be-bf62-89c6acf06d6e
DTSTART:20261006T020000Z
DTEND:20261019T090000Z
CLASS:PUBLIC
DESCRIPTION:https://loyalty-global.kktix.cc/events/hairms2026
LOCATION:
SUMMARY:白髮弱化 /Hairms-Milly&James / 中野製藥課程
END:VEVENT
END:VCALENDAR
